BEGIN:VCALENDAR
VERSION:2.0
PRODID:-//TAKE FOUR - ECPv6.15.19//NONSGML v1.0//EN
CALSCALE:GREGORIAN
METHOD:PUBLISH
X-WR-CALNAME:TAKE FOUR
X-ORIGINAL-URL:https://takefour.de
X-WR-CALDESC:Veranstaltungen für TAKE FOUR
REFRESH-INTERVAL;VALUE=DURATION:PT1H
X-Robots-Tag:noindex
X-PUBLISHED-TTL:PT1H
BEGIN:VTIMEZONE
TZID:Europe/Berlin
BEGIN:DAYLIGHT
TZOFFSETFROM:+0100
TZOFFSETTO:+0200
TZNAME:CEST
DTSTART:20250330T010000
END:DAYLIGHT
BEGIN:STANDARD
TZOFFSETFROM:+0200
TZOFFSETTO:+0100
TZNAME:CET
DTSTART:20251026T010000
END:STANDARD
BEGIN:DAYLIGHT
TZOFFSETFROM:+0100
TZOFFSETTO:+0200
TZNAME:CEST
DTSTART:20260329T010000
END:DAYLIGHT
BEGIN:STANDARD
TZOFFSETFROM:+0200
TZOFFSETTO:+0100
TZNAME:CET
DTSTART:20261025T010000
END:STANDARD
BEGIN:DAYLIGHT
TZOFFSETFROM:+0100
TZOFFSETTO:+0200
TZNAME:CEST
DTSTART:20270328T010000
END:DAYLIGHT
BEGIN:STANDARD
TZOFFSETFROM:+0200
TZOFFSETTO:+0100
TZNAME:CET
DTSTART:20271031T010000
END:STANDARD
END:VTIMEZONE
BEGIN:VEVENT
DTSTART;TZID=Europe/Berlin:20260425T193000
DTEND;TZID=Europe/Berlin:20260425T213000
DTSTAMP:20260424T114903
CREATED:20260207T083147Z
LAST-MODIFIED:20260217T173737Z
UID:2359-1777145400-1777152600@takefour.de
SUMMARY:Kropp in Concert präsentiert: TAKE FOUR
DESCRIPTION:Wir singen auf der großen Kana-Bühne der Diakonie Kropp. \nDer Eintritt ist frei\, es wird um Spenden gebeten
URL:https://takefour.de/event/kropp-in-concert-praesentiert-take-four/
LOCATION:Haus Kana\, Johannesallee 1\, Kropp\, 24848\, Germany
CATEGORIES:Konzert
ATTACH;FMTTYPE=image/jpeg:https://takefour.de/wp-content/uploads/2018/11/TAKE_FOUR_Bu__hne3-scaled-e1653121340125.jpg
END:VEVENT
BEGIN:VEVENT
DTSTART;TZID=Europe/Berlin:20260529T190000
DTEND;TZID=Europe/Berlin:20260529T210000
DTSTAMP:20260424T114903
CREATED:20251128T175839Z
LAST-MODIFIED:20260119T174313Z
UID:2180-1780081200-1780088400@takefour.de
SUMMARY:40 Jahre TAKE FOUR - "An Norbert denken"
DESCRIPTION:Sie singen einfach immer weiter – Was als kleine Gesangseinlage auf der eigenen Abifeier 1986 in Kiel begann\, zog 5 nationale Barbershop-Champion-Titel nach sich\, führte TAKE FOUR u.a. in die USA (Miami & Nashville) und ins Vereinigte Königreich. \nUnd getreu den norddeutschen Leitsätzen „Von nix kommt nix“ und „Gegenwind formt den Charakter“ führt TAKE FOUR mit ihrem unverwechselbaren a cappella-Sound & viel unwiderstehlichem Augenzwinkern\, ihr Publikum durch das neue Programm.\nAm Ende ist auf jeden Fall klar\, warum es sich lohnt\, an Norbert zu denken. \nKARTENVORVERKAUF für alle Veranstaltungen (i.d.R ab 2 Monate vorher – Märkte Eintritt frei):\nBlumenfachgeschäft KISTENMACHER: Kätnersredder 58\, 24232 Schönkirchen\, Tel. 0431-202824 \nKarten: 22\,00 €
URL:https://takefour.de/event/40-jahre-take-four-an-norbert-denken/
LOCATION:Schmidt-Haus Schönkirchen\, Dorfstr. 29 / Plüßkuhle\, Schönkirchen\, 24232\, Deutschland
CATEGORIES:Konzert
ATTACH;FMTTYPE=image/jpeg:https://takefour.de/wp-content/uploads/2025/11/Flyer_A6_proof-e1764771254812.jpeg
END:VEVENT
BEGIN:VEVENT
DTSTART;TZID=Europe/Berlin:20260606T200000
DTEND;TZID=Europe/Berlin:20260606T220000
DTSTAMP:20260424T114903
CREATED:20251128T180232Z
LAST-MODIFIED:20260119T173950Z
UID:2185-1780776000-1780783200@takefour.de
SUMMARY:40 Jahre TAKE FOUR - "An Norbert denken"
DESCRIPTION:Sie singen einfach immer weiter – Was als kleine Gesangseinlage auf der eigenen Abifeier 1986 in Kiel begann\, zog 5 nationale Barbershop-Champion-Titel nach sich\, führte TAKE FOUR u.a. in die USA (Miami & Nashville) und ins Vereinigte Königreich. \nUnd getreu den norddeutschen Leitsätzen „Von nix kommt nix“ und „Gegenwind formt den Charakter“ führt TAKE FOUR mit ihrem unverwechselbaren a cappella-Sound & viel unwiderstehlichem Augenzwinkern\, ihr Publikum durch das neue Programm.\nAm Ende ist auf jeden Fall klar\, warum es sich lohnt\, an Norbert zu denken. \nVorverkauf: Karten: 22\,00 € \n 
URL:https://takefour.de/event/40-jahre-take-four-an-norbert-denken-2/
LOCATION:Kulturforum Kiel\, Andreas-Gayk-Straße 31\, Kiel\, 24103
CATEGORIES:Konzert
ATTACH;FMTTYPE=image/jpeg:https://takefour.de/wp-content/uploads/2025/11/Flyer_A6_proof-e1764771254812.jpeg
END:VEVENT
BEGIN:VEVENT
DTSTART;TZID=Europe/Berlin:20260905T200000
DTEND;TZID=Europe/Berlin:20260905T220000
DTSTAMP:20260424T114903
CREATED:20251128T180730Z
LAST-MODIFIED:20251203T141601Z
UID:2187-1788638400-1788645600@takefour.de
SUMMARY:40 Jahre TAKE FOUR - "An Norbert denken"
DESCRIPTION:Vorankündigung des Jubiläumskonzertes für den Kulturbund Eutin im „Binchen Kino“ \nDetails und Vorverkauf folgen.
URL:https://takefour.de/event/40-jahre-take-four-an-norbert-denken-3/
LOCATION:Eutin\, Binchen Kino\, Albert-Mahlstedt Straße 2a\, Eutin\, 23701\, Germany
CATEGORIES:Konzert
ATTACH;FMTTYPE=image/jpeg:https://takefour.de/wp-content/uploads/2025/11/Flyer_A6_proof-e1764771254812.jpeg
END:VEVENT
BEGIN:VEVENT
DTSTART;TZID=Europe/Berlin:20260912T200000
DTEND;TZID=Europe/Berlin:20260912T220000
DTSTAMP:20260424T114903
CREATED:20251128T180908Z
LAST-MODIFIED:20251203T141711Z
UID:2190-1789243200-1789250400@takefour.de
SUMMARY:40 Jahre TAKE FOUR - "An Norbert denken"
DESCRIPTION:Vorankündigung Jubiläumskonzert im Marstall\, Ahrensburg \nDetails und Vorverkauf folgen.
URL:https://takefour.de/event/40-jahre-take-four-an-norbert-denken-4/
LOCATION:Marstall Ahrensburg\, Lübecker Str. 8\, Ahrensburg\, 22926
CATEGORIES:Konzert
ATTACH;FMTTYPE=image/jpeg:https://takefour.de/wp-content/uploads/2025/11/Flyer_A6_proof-e1764771254812.jpeg
END:VEVENT
BEGIN:VEVENT
DTSTART;TZID=Europe/Berlin:20261010T190000
DTEND;TZID=Europe/Berlin:20261010T210000
DTSTAMP:20260424T114903
CREATED:20260207T084111Z
LAST-MODIFIED:20260212T171818Z
UID:2362-1791658800-1791666000@takefour.de
SUMMARY:Schlei-Hearing Louisenlund
DESCRIPTION:Wir freuen uns sehr auf Teil des Schlei-Hearing Festivals zu sein. Mit dabei: „Voices of Aarhus“ und „ChorColores“ \nDer Vorverkauf startet nach den Sommerferien SH über „Eventfrog“ \n  \n 
URL:https://takefour.de/event/schlei-hearing-louisenlund/
LOCATION:Kulturhalle Louisenlund\, Louisenlund 12\, Güby\, 24375\, Germany
CATEGORIES:Kurzprogramm
ATTACH;FMTTYPE=image/jpeg:https://takefour.de/wp-content/uploads/2021/02/TAKE-FOURdanke-scaled-e1764752971689.jpg
END:VEVENT
BEGIN:VEVENT
DTSTART;TZID=Europe/Berlin:20261011T153000
DTEND;TZID=Europe/Berlin:20261011T173000
DTSTAMP:20260424T114903
CREATED:20251128T181103Z
LAST-MODIFIED:20251203T141434Z
UID:2192-1791732600-1791739800@takefour.de
SUMMARY:40 Jahre TAKE FOUR - "An Norbert denken"
DESCRIPTION:Vorankündigung Jubiläumskonzert im Kulturzentrum Schloss Reinbek. \nDetails und Vorverkauf folgen. \n 
URL:https://takefour.de/event/40-jahre-take-four-an-norbert-denken-5/
LOCATION:Schloss Reinbek\, Schloßstraße 5\, Reinbek\, 21465\, Deutschland
CATEGORIES:Konzert
ATTACH;FMTTYPE=image/jpeg:https://takefour.de/wp-content/uploads/2025/11/Flyer_A6_proof-e1764771254812.jpeg
END:VEVENT
BEGIN:VEVENT
DTSTART;TZID=Europe/Berlin:20261121T200000
DTEND;TZID=Europe/Berlin:20261121T220000
DTSTAMP:20260424T114903
CREATED:20251129T081145Z
LAST-MODIFIED:20260119T173424Z
UID:2194-1795291200-1795298400@takefour.de
SUMMARY:Doppelkonzert "Qunitessence & Friends 15 x 40 Jahre"
DESCRIPTION:Zur 15. Jubiläumsausgabe von „Quintessence & friends“ dürfen wir erneut mit unserem 40jährigen Jubiläumsbeitrag im Wilhelm 13 in Oldenburg zu Gast sein. Wir freuen uns schon darauf\, wieder gemeinsam die Bühne zu teilen! \nKartenvorverkauf folgt.
URL:https://takefour.de/event/doppelkonzert-qunitessence-friends-15-x-40-jahre/
LOCATION:Wilhelm 13\, Leo-Trepp-Str. 13\, Oldenburg\, 26121\, Deutschland
CATEGORIES:Kurzprogramm
ATTACH;FMTTYPE=image/jpeg:https://takefour.de/wp-content/uploads/2018/11/Quintessence-TAKE-FOUR-e1764771544596.jpg
END:VEVENT
END:VCALENDAR